BEGIN:VCALENDAR
VERSION:2.0
PRODID:-//ASLA Northern California Chapter - ECPv6.15.20//NONSGML v1.0//EN
CALSCALE:GREGORIAN
METHOD:PUBLISH
X-ORIGINAL-URL:https://asla-ncc.org
X-WR-CALDESC:Events for ASLA Northern California Chapter
REFRESH-INTERVAL;VALUE=DURATION:PT1H
X-Robots-Tag:noindex
X-PUBLISHED-TTL:PT1H
BEGIN:VTIMEZONE
TZID:America/Los_Angeles
BEGIN:DAYLIGHT
TZOFFSETFROM:-0800
TZOFFSETTO:-0700
TZNAME:PDT
DTSTART:20250309T100000
END:DAYLIGHT
BEGIN:STANDARD
TZOFFSETFROM:-0700
TZOFFSETTO:-0800
TZNAME:PST
DTSTART:20251102T090000
END:STANDARD
BEGIN:DAYLIGHT
TZOFFSETFROM:-0800
TZOFFSETTO:-0700
TZNAME:PDT
DTSTART:20260308T100000
END:DAYLIGHT
BEGIN:STANDARD
TZOFFSETFROM:-0700
TZOFFSETTO:-0800
TZNAME:PST
DTSTART:20261101T090000
END:STANDARD
BEGIN:DAYLIGHT
TZOFFSETFROM:-0800
TZOFFSETTO:-0700
TZNAME:PDT
DTSTART:20270314T100000
END:DAYLIGHT
BEGIN:STANDARD
TZOFFSETFROM:-0700
TZOFFSETTO:-0800
TZNAME:PST
DTSTART:20271107T090000
END:STANDARD
END:VTIMEZONE
BEGIN:VEVENT
DTSTART;TZID=America/Los_Angeles:20260423T183000
DTEND;TZID=America/Los_Angeles:20260423T210000
DTSTAMP:20260422T025400
CREATED:20260309T202708Z
LAST-MODIFIED:20260309T203327Z
UID:34107-1776969000-1776978000@asla-ncc.org
SUMMARY:ASLA-NCC Annual Meeting & Awards Presentation Reception
DESCRIPTION:Join friends and colleagues as we honor the recipients of the 2026 ASLA-NCC Professional and Student Awards Reception and Awards Presentation (includes plentiful hors d’oeuvres and beverages) \nDirections \nPublic Transportation \nMembers $50\, Non-members $75 Students $25 \nRegistration by April 17th is required. No at the door registration will be accepted.
URL:https://asla-ncc.org/event/asla-ncc-annual-meeting-awards-presentation-reception/
LOCATION:Lake Chalet\, 1520 Lakeside Dr.\, Oakland\, CA\, 94612
ATTACH;FMTTYPE=image/jpeg:https://asla-ncc.org/wp-content/uploads/2026/03/ASLA-NCC-Awards-Presentation-header-image.jpg
END:VEVENT
BEGIN:VEVENT
DTSTART;TZID=America/Los_Angeles:20260425T130000
DTEND;TZID=America/Los_Angeles:20260425T150000
DTSTAMP:20260422T025400
CREATED:20260402T035009Z
LAST-MODIFIED:20260402T035009Z
UID:34307-1777122000-1777129200@asla-ncc.org
SUMMARY:ASLA-NCC Presidio Tunnel Tops Sketch Crawl
DESCRIPTION:In celebration of World Landscape Architecture Month\, ASLA Northern California Chapter is thrilled to \npartner with the Presidio Trust and landscape architects Chip Sullivan and Elizabeth Boults for a \nmagical journey in search of the genius loci—the spirit of place. \nJoin us at Presidio Tunnel Tops for an immersive afternoon of drawing\, field sketching\, and collage. We \nwill begin at the Western Lawn (near the Presidio Visitor Center) and explore the site through observation and creative expression. At the conclusion of the event\, participants are invited to share their sketches and reflections\, bringing their experiences to life. \nThis event is FREE and open to all\, whether you’re a designer\, artist\, student\, or simply curious. \nPlease REGISTER by April 24th. Spots are limited and available on a first-come\, first-served basis. \nWe look forward to seeing you there!
URL:https://asla-ncc.org/event/asla-ncc-presidio-tunnel-tops-sketch-crawl/
LOCATION:Presidio Tunnel Tops Western Lawn\, San Francisco
ATTACH;FMTTYPE=image/jpeg:https://asla-ncc.org/wp-content/uploads/2026/04/Sketch-Crawl-26.jpg
END:VEVENT
END:VCALENDAR